BEGIN:VCALENDAR
VERSION:2.0
PRODID:-//hacksw/handcal//NONSGML v1.0//EN
CALSCALE:GREGORIAN
BEGIN:VEVENT
ORGANIZER;CN=Navitas Semiconductor:MAILTO:no-reply@gcs-web.com
DTEND:
UID:2147be83-add2-460b-8888-12c1c9cffee1
DTSTAMP:1776846944
LOCATION:https://edge.media-server.com/mmc/p/cf4zzfj3
DESCRIPTION:Event Details https://ir.navitassemi.com/events/event-details/navitas-semiconductor-q1-2026-earnings\n\nWebcast: https://edge.media-server.com/mmc/p/cf4zzfj3
URL;VALUE=URI:https://edge.media-server.com/mmc/p/cf4zzfj3
SUMMARY:Navitas Semiconductor - Navitas Semiconductor Q1 2026 Earnings
DTSTART:20260505T210000Z
END:VEVENT
END:VCALENDAR